Package: epimutacionsData Version: 1.15.0 Command: /home/biocbuild/bbs-3.23-bioc/R/bin/R CMD INSTALL epimutacionsData StartedAt: 2025-11-18 10:55:47 -0500 (Tue, 18 Nov 2025) EndedAt: 2025-11-18 10:55:49 -0500 (Tue, 18 Nov 2025) EllapsedTime: 2.4 seconds RetCode: 0 Status: OK