Package: epimutacionsData Version: 1.15.0 Command: /home/biocbuild/bbs-3.23-bioc/R/bin/R CMD build --keep-empty-dirs --no-resave-data epimutacionsData StartedAt: 2025-11-18 11:16:44 -0500 (Tue, 18 Nov 2025) EndedAt: 2025-11-18 11:17:26 -0500 (Tue, 18 Nov 2025) EllapsedTime: 41.5 seconds RetCode: 0 Status: OK PackageFile: epimutacionsData_1.15.0.tar.gz PackageFileSize: 57.04 MiB