Package: ecoliLeucine Version: 1.51.0 Command: /home/biocbuild/bbs-3.23-bioc/R/bin/R CMD build --keep-empty-dirs --no-resave-data ecoliLeucine StartedAt: 2025-11-18 11:16:20 -0500 (Tue, 18 Nov 2025) EndedAt: 2025-11-18 11:16:22 -0500 (Tue, 18 Nov 2025) EllapsedTime: 1.3 seconds RetCode: 0 Status: OK PackageFile: ecoliLeucine_1.51.0.tar.gz PackageFileSize: 5.936 MiB