Package: dyebiasexamples Version: 1.51.0 Command: /home/biocbuild/bbs-3.23-bioc/R/bin/R CMD build --keep-empty-dirs --no-resave-data dyebiasexamples StartedAt: 2025-11-18 11:16:07 -0500 (Tue, 18 Nov 2025) EndedAt: 2025-11-18 11:16:14 -0500 (Tue, 18 Nov 2025) EllapsedTime: 7.0 seconds RetCode: 0 Status: OK PackageFile: dyebiasexamples_1.51.0.tar.gz PackageFileSize: 15.2 MiB