Package: dorothea Version: 1.23.0 Command: /home/biocbuild/bbs-3.23-bioc/R/bin/R CMD INSTALL dorothea StartedAt: 2025-11-18 10:56:37 -0500 (Tue, 18 Nov 2025) EndedAt: 2025-11-18 10:57:20 -0500 (Tue, 18 Nov 2025) EllapsedTime: 43.1 seconds RetCode: 0 Status: OK