Package: dorothea Version: 1.23.0 Command: /home/biocbuild/bbs-3.23-bioc/R/bin/R CMD check --install=check:dorothea.install-out.txt --library=/home/biocbuild/bbs-3.23-bioc/R/site-library --timings dorothea_1.23.0.tar.gz StartedAt: 2025-11-18 12:17:51 -0500 (Tue, 18 Nov 2025) EndedAt: 2025-11-18 12:22:15 -0500 (Tue, 18 Nov 2025) EllapsedTime: 263.9 seconds RetCode: 0 Status: OK CheckDir: dorothea.Rcheck Warnings: 0