Package: depmap Version: 1.25.0 Command: /home/biocbuild/bbs-3.23-bioc/R/bin/R CMD build --keep-empty-dirs --no-resave-data depmap StartedAt: 2025-11-20 11:14:45 -0500 (Thu, 20 Nov 2025) EndedAt: 2025-11-20 11:23:38 -0500 (Thu, 20 Nov 2025) EllapsedTime: 533.0 seconds RetCode: 0 Status: OK PackageFile: depmap_1.25.0.tar.gz PackageFileSize: 1.559 MiB