Package: curatedTCGAData Version: 1.33.0 Command: /home/biocbuild/bbs-3.23-bioc/R/bin/R CMD build --keep-empty-dirs --no-resave-data curatedTCGAData StartedAt: 2025-11-13 11:13:05 -0500 (Thu, 13 Nov 2025) EndedAt: 2025-11-13 11:14:20 -0500 (Thu, 13 Nov 2025) EllapsedTime: 74.2 seconds RetCode: 0 Status: OK PackageFile: curatedTCGAData_1.33.0.tar.gz PackageFileSize: 417.1 KiB