Package: curatedPCaData Version: 1.7.0 Command: /home/biocbuild/bbs-3.23-bioc/R/bin/R CMD build --keep-empty-dirs --no-resave-data curatedPCaData StartedAt: 2025-11-20 11:12:44 -0500 (Thu, 20 Nov 2025) EndedAt: 2025-11-20 11:19:27 -0500 (Thu, 20 Nov 2025) EllapsedTime: 402.5 seconds RetCode: 0 Status: OK PackageFile: curatedPCaData_1.7.0.tar.gz PackageFileSize: 2.936 MiB