Package: curatedAdipoRNA Version: 1.27.0 Command: /home/biocbuild/bbs-3.23-bioc/R/bin/R CMD INSTALL curatedAdipoRNA StartedAt: 2025-11-18 11:01:59 -0500 (Tue, 18 Nov 2025) EndedAt: 2025-11-18 11:02:20 -0500 (Tue, 18 Nov 2025) EllapsedTime: 20.5 seconds RetCode: 0 Status: OK