Package: curatedAdipoRNA Version: 1.27.0 Command: /home/biocbuild/bbs-3.23-bioc/R/bin/R CMD build --keep-empty-dirs --no-resave-data curatedAdipoRNA StartedAt: 2025-11-18 11:11:49 -0500 (Tue, 18 Nov 2025) EndedAt: 2025-11-18 11:13:14 -0500 (Tue, 18 Nov 2025) EllapsedTime: 85.3 seconds RetCode: 0 Status: OK PackageFile: curatedAdipoRNA_1.27.0.tar.gz PackageFileSize: 5.586 MiB