Package: curatedAdipoChIP Version: 1.27.0 Command: /home/biocbuild/bbs-3.23-bioc/R/bin/R CMD INSTALL curatedAdipoChIP StartedAt: 2025-11-18 11:00:36 -0500 (Tue, 18 Nov 2025) EndedAt: 2025-11-18 11:01:01 -0500 (Tue, 18 Nov 2025) EllapsedTime: 25.3 seconds RetCode: 0 Status: OK