Package: colonCA Version: 1.53.0 Command: /home/biocbuild/bbs-3.23-bioc/R/bin/R CMD INSTALL colonCA StartedAt: 2025-11-18 10:56:24 -0500 (Tue, 18 Nov 2025) EndedAt: 2025-11-18 10:56:26 -0500 (Tue, 18 Nov 2025) EllapsedTime: 2.4 seconds RetCode: 0 Status: OK