Package: colonCA Version: 1.53.0 Command: /home/biocbuild/bbs-3.23-bioc/R/bin/R CMD check --install=check:colonCA.install-out.txt --library=/home/biocbuild/bbs-3.23-bioc/R/site-library --timings colonCA_1.53.0.tar.gz StartedAt: 2025-11-18 12:10:21 -0500 (Tue, 18 Nov 2025) EndedAt: 2025-11-18 12:11:03 -0500 (Tue, 18 Nov 2025) EllapsedTime: 41.9 seconds RetCode: 0 Status: WARNINGS CheckDir: colonCA.Rcheck Warnings: 1