Package: cnvGSAdata Version: 1.45.0 Command: /home/biocbuild/bbs-3.22-bioc/R/bin/R CMD INSTALL cnvGSAdata StartedAt: 2025-06-26 10:57:56 -0400 (Thu, 26 Jun 2025) EndedAt: 2025-06-26 10:58:03 -0400 (Thu, 26 Jun 2025) EllapsedTime: 6.7 seconds RetCode: 0 Status: OK