Package: cnvGSAdata Version: 1.45.0 Command: /home/biocbuild/bbs-3.22-bioc/R/bin/R CMD check --install=check:cnvGSAdata.install-out.txt --library=/home/biocbuild/bbs-3.22-bioc/R/site-library --timings cnvGSAdata_1.45.0.tar.gz StartedAt: 2025-06-26 12:08:31 -0400 (Thu, 26 Jun 2025) EndedAt: 2025-06-26 12:09:27 -0400 (Thu, 26 Jun 2025) EllapsedTime: 56.1 seconds RetCode: 0 Status: WARNINGS CheckDir: cnvGSAdata.Rcheck Warnings: 1