Package: cnvGSAdata Version: 1.45.0 Command: /home/biocbuild/bbs-3.22-bioc/R/bin/R CMD build --keep-empty-dirs --no-resave-data cnvGSAdata StartedAt: 2025-06-26 11:11:28 -0400 (Thu, 26 Jun 2025) EndedAt: 2025-06-26 11:11:30 -0400 (Thu, 26 Jun 2025) EllapsedTime: 2.0 seconds RetCode: 0 Status: OK PackageFile: cnvGSAdata_1.45.0.tar.gz PackageFileSize: 6.235 MiB