Package: cnvGSAdata Version: 1.47.0 Command: /home/biocbuild/bbs-3.23-bioc/R/bin/R CMD check --install=check:cnvGSAdata.install-out.txt --library=/home/biocbuild/bbs-3.23-bioc/R/site-library --timings cnvGSAdata_1.47.0.tar.gz StartedAt: 2025-11-13 12:09:12 -0500 (Thu, 13 Nov 2025) EndedAt: 2025-11-13 12:10:06 -0500 (Thu, 13 Nov 2025) EllapsedTime: 53.6 seconds RetCode: 0 Status: WARNINGS CheckDir: cnvGSAdata.Rcheck Warnings: 1