Package: celldex Version: 1.21.0 Command: /home/biocbuild/bbs-3.23-bioc/R/bin/R CMD INSTALL celldex StartedAt: 2025-11-18 11:02:51 -0500 (Tue, 18 Nov 2025) EndedAt: 2025-11-18 11:03:22 -0500 (Tue, 18 Nov 2025) EllapsedTime: 31.6 seconds RetCode: 0 Status: OK