Package: celldex Version: 1.21.0 Command: /home/biocbuild/bbs-3.23-bioc/R/bin/R CMD check --install=check:celldex.install-out.txt --library=/home/biocbuild/bbs-3.23-bioc/R/site-library --timings celldex_1.21.0.tar.gz StartedAt: 2025-11-18 12:06:28 -0500 (Tue, 18 Nov 2025) EndedAt: 2025-11-18 12:12:15 -0500 (Tue, 18 Nov 2025) EllapsedTime: 347.1 seconds RetCode: 0 Status: OK CheckDir: celldex.Rcheck Warnings: 0