Package: celldex Version: 1.21.0 Command: /home/biocbuild/bbs-3.23-bioc/R/bin/R CMD build --keep-empty-dirs --no-resave-data celldex StartedAt: 2025-11-18 11:08:59 -0500 (Tue, 18 Nov 2025) EndedAt: 2025-11-18 11:09:49 -0500 (Tue, 18 Nov 2025) EllapsedTime: 50.4 seconds RetCode: 0 Status: OK PackageFile: celldex_1.21.0.tar.gz PackageFileSize: 402.6 KiB