Package: cancerdata Version: 1.49.0 Command: /home/biocbuild/bbs-3.23-bioc/R/bin/R CMD build --keep-empty-dirs --no-resave-data cancerdata StartedAt: 2025-11-18 11:08:48 -0500 (Tue, 18 Nov 2025) EndedAt: 2025-11-18 11:08:50 -0500 (Tue, 18 Nov 2025) EllapsedTime: 2.4 seconds RetCode: 0 Status: OK PackageFile: cancerdata_1.49.0.tar.gz PackageFileSize: 26.69 MiB