Package: cMap2data Version: 1.47.0 Command: /home/biocbuild/bbs-3.23-bioc/R/bin/R CMD check --install=check:cMap2data.install-out.txt --library=/home/biocbuild/bbs-3.23-bioc/R/site-library --timings cMap2data_1.47.0.tar.gz StartedAt: 2025-11-20 12:16:27 -0500 (Thu, 20 Nov 2025) EndedAt: 2025-11-20 12:16:55 -0500 (Thu, 20 Nov 2025) EllapsedTime: 27.9 seconds RetCode: 0 Status: WARNINGS CheckDir: cMap2data.Rcheck Warnings: 1