Package: breastCancerUPP Version: 1.49.0 Command: /home/biocbuild/bbs-3.23-bioc/R/bin/R CMD INSTALL breastCancerUPP StartedAt: 2025-11-18 10:55:14 -0500 (Tue, 18 Nov 2025) EndedAt: 2025-11-18 10:55:16 -0500 (Tue, 18 Nov 2025) EllapsedTime: 2.5 seconds RetCode: 0 Status: OK