Package: breastCancerUNT Version: 1.49.0 Command: /home/biocbuild/bbs-3.23-bioc/R/bin/R CMD check --install=check:breastCancerUNT.install-out.txt --library=/home/biocbuild/bbs-3.23-bioc/R/site-library --timings breastCancerUNT_1.49.0.tar.gz StartedAt: 2025-11-18 12:04:36 -0500 (Tue, 18 Nov 2025) EndedAt: 2025-11-18 12:06:04 -0500 (Tue, 18 Nov 2025) EllapsedTime: 88.2 seconds RetCode: 0 Status: WARNINGS CheckDir: breastCancerUNT.Rcheck Warnings: 1