Package: breakpointRdata Version: 1.29.0 Command: /home/biocbuild/bbs-3.23-bioc/R/bin/R CMD check --install=check:breakpointRdata.install-out.txt --library=/home/biocbuild/bbs-3.23-bioc/R/site-library --timings breakpointRdata_1.29.0.tar.gz StartedAt: 2025-11-20 12:11:17 -0500 (Thu, 20 Nov 2025) EndedAt: 2025-11-20 12:11:42 -0500 (Thu, 20 Nov 2025) EllapsedTime: 25.3 seconds RetCode: 0 Status: OK CheckDir: breakpointRdata.Rcheck Warnings: 0