Package: bodymapRat Version: 1.27.0 Command: /home/biocbuild/bbs-3.23-bioc/R/bin/R CMD check --install=check:bodymapRat.install-out.txt --library=/home/biocbuild/bbs-3.23-bioc/R/site-library --timings bodymapRat_1.27.0.tar.gz StartedAt: 2025-11-18 12:04:13 -0500 (Tue, 18 Nov 2025) EndedAt: 2025-11-18 12:07:45 -0500 (Tue, 18 Nov 2025) EllapsedTime: 211.9 seconds RetCode: 0 Status: OK CheckDir: bodymapRat.Rcheck Warnings: 0