Package: biotmleData Version: 1.35.0 Command: /home/biocbuild/bbs-3.23-bioc/R/bin/R CMD check --install=check:biotmleData.install-out.txt --library=/home/biocbuild/bbs-3.23-bioc/R/site-library --timings biotmleData_1.35.0.tar.gz StartedAt: 2025-11-20 12:11:01 -0500 (Thu, 20 Nov 2025) EndedAt: 2025-11-20 12:11:45 -0500 (Thu, 20 Nov 2025) EllapsedTime: 44.4 seconds RetCode: 0 Status: WARNINGS CheckDir: biotmleData.Rcheck Warnings: 2