Package: beta7 Version: 1.49.0 Command: /home/biocbuild/bbs-3.23-bioc/R/bin/R CMD INSTALL beta7 StartedAt: 2025-11-18 10:56:26 -0500 (Tue, 18 Nov 2025) EndedAt: 2025-11-18 10:56:29 -0500 (Tue, 18 Nov 2025) EllapsedTime: 3.1 seconds RetCode: 0 Status: OK