Package: beta7 Version: 1.49.0 Command: /home/biocbuild/bbs-3.23-bioc/R/bin/R CMD build --keep-empty-dirs --no-resave-data beta7 StartedAt: 2025-11-18 11:07:57 -0500 (Tue, 18 Nov 2025) EndedAt: 2025-11-18 11:08:06 -0500 (Tue, 18 Nov 2025) EllapsedTime: 8.6 seconds RetCode: 0 Status: OK PackageFile: beta7_1.49.0.tar.gz PackageFileSize: 15.18 MiB