Package: bcellViper Version: 1.47.0 Command: /home/biocbuild/bbs-3.23-bioc/R/bin/R CMD check --install=check:bcellViper.install-out.txt --library=/home/biocbuild/bbs-3.23-bioc/R/site-library --timings bcellViper_1.47.0.tar.gz StartedAt: 2025-11-18 12:03:11 -0500 (Tue, 18 Nov 2025) EndedAt: 2025-11-18 12:04:21 -0500 (Tue, 18 Nov 2025) EllapsedTime: 70.1 seconds RetCode: 0 Status: OK CheckDir: bcellViper.Rcheck Warnings: 0