Package: aracne.networks Version: 1.37.0 Command: /home/biocbuild/bbs-3.23-bioc/R/bin/R CMD INSTALL aracne.networks StartedAt: 2025-11-18 10:57:57 -0500 (Tue, 18 Nov 2025) EndedAt: 2025-11-18 10:58:34 -0500 (Tue, 18 Nov 2025) EllapsedTime: 36.6 seconds RetCode: 0 Status: OK