Package: aracne.networks Version: 1.37.0 Command: /home/biocbuild/bbs-3.23-bioc/R/bin/R CMD build --keep-empty-dirs --no-resave-data aracne.networks StartedAt: 2025-11-18 11:07:36 -0500 (Tue, 18 Nov 2025) EndedAt: 2025-11-18 11:08:33 -0500 (Tue, 18 Nov 2025) EllapsedTime: 56.9 seconds RetCode: 0 Status: OK PackageFile: aracne.networks_1.37.0.tar.gz PackageFileSize: 203.3 MiB