Package: antiProfilesData Version: 1.47.0 Command: /home/biocbuild/bbs-3.23-bioc/R/bin/R CMD INSTALL antiProfilesData StartedAt: 2025-11-18 10:56:09 -0500 (Tue, 18 Nov 2025) EndedAt: 2025-11-18 10:56:12 -0500 (Tue, 18 Nov 2025) EllapsedTime: 3.0 seconds RetCode: 0 Status: OK