Package: adductData Version: 1.27.0 Command: /home/biocbuild/bbs-3.23-bioc/R/bin/R CMD check --install=check:adductData.install-out.txt --library=/home/biocbuild/bbs-3.23-bioc/R/site-library --timings adductData_1.27.0.tar.gz StartedAt: 2025-11-18 12:02:47 -0500 (Tue, 18 Nov 2025) EndedAt: 2025-11-18 12:04:14 -0500 (Tue, 18 Nov 2025) EllapsedTime: 87.0 seconds RetCode: 0 Status: OK CheckDir: adductData.Rcheck Warnings: 0