Package: adductData Version: 1.27.0 Command: /home/biocbuild/bbs-3.23-bioc/R/bin/R CMD build --keep-empty-dirs --no-resave-data adductData StartedAt: 2025-11-18 11:07:34 -0500 (Tue, 18 Nov 2025) EndedAt: 2025-11-18 11:07:45 -0500 (Tue, 18 Nov 2025) EllapsedTime: 11.0 seconds RetCode: 0 Status: OK PackageFile: adductData_1.27.0.tar.gz PackageFileSize: 7.581 KiB