Package: WeberDivechaLCdata Version: 1.13.0 Command: /home/biocbuild/bbs-3.23-bioc/R/bin/R CMD INSTALL WeberDivechaLCdata StartedAt: 2025-11-18 10:58:29 -0500 (Tue, 18 Nov 2025) EndedAt: 2025-11-18 10:58:59 -0500 (Tue, 18 Nov 2025) EllapsedTime: 29.3 seconds RetCode: 0 Status: OK