Package: VectraPolarisData Version: 1.15.0 Command: /home/biocbuild/bbs-3.23-bioc/R/bin/R CMD build --keep-empty-dirs --no-resave-data VectraPolarisData StartedAt: 2025-11-18 11:50:23 -0500 (Tue, 18 Nov 2025) EndedAt: 2025-11-18 11:51:57 -0500 (Tue, 18 Nov 2025) EllapsedTime: 93.3 seconds RetCode: 0 Status: OK PackageFile: VectraPolarisData_1.15.0.tar.gz PackageFileSize: 794.1 KiB