Package: TumourMethData Version: 1.9.0 Command: /home/biocbuild/bbs-3.23-bioc/R/bin/R CMD INSTALL TumourMethData StartedAt: 2025-11-18 10:58:18 -0500 (Tue, 18 Nov 2025) EndedAt: 2025-11-18 10:58:46 -0500 (Tue, 18 Nov 2025) EllapsedTime: 27.6 seconds RetCode: 0 Status: OK