Package: TumourMethData Version: 1.9.0 Command: /home/biocbuild/bbs-3.23-bioc/R/bin/R CMD build --keep-empty-dirs --no-resave-data TumourMethData StartedAt: 2025-11-18 11:49:38 -0500 (Tue, 18 Nov 2025) EndedAt: 2025-11-18 11:50:28 -0500 (Tue, 18 Nov 2025) EllapsedTime: 50.9 seconds RetCode: 0 Status: OK PackageFile: TumourMethData_1.9.0.tar.gz PackageFileSize: 20.68 KiB