Package: TargetSearchData Version: 1.49.0 Command: /home/biocbuild/bbs-3.23-bioc/R/bin/R CMD check --install=check:TargetSearchData.install-out.txt --library=/home/biocbuild/bbs-3.23-bioc/R/site-library --timings TargetSearchData_1.49.0.tar.gz StartedAt: 2025-11-20 13:18:06 -0500 (Thu, 20 Nov 2025) EndedAt: 2025-11-20 13:18:36 -0500 (Thu, 20 Nov 2025) EllapsedTime: 29.3 seconds RetCode: 0 Status: OK CheckDir: TargetSearchData.Rcheck Warnings: 0