Package: TabulaMurisSenisData Version: 1.17.0 Command: /home/biocbuild/bbs-3.23-bioc/R/bin/R CMD INSTALL TabulaMurisSenisData StartedAt: 2025-11-18 10:59:56 -0500 (Tue, 18 Nov 2025) EndedAt: 2025-11-18 11:00:26 -0500 (Tue, 18 Nov 2025) EllapsedTime: 29.5 seconds RetCode: 0 Status: OK