Package: TabulaMurisSenisData Version: 1.17.0 Command: /home/biocbuild/bbs-3.23-bioc/R/bin/R CMD build --keep-empty-dirs --no-resave-data TabulaMurisSenisData StartedAt: 2025-11-18 11:45:56 -0500 (Tue, 18 Nov 2025) EndedAt: 2025-11-18 11:47:35 -0500 (Tue, 18 Nov 2025) EllapsedTime: 98.4 seconds RetCode: 0 Status: OK PackageFile: TabulaMurisSenisData_1.17.0.tar.gz PackageFileSize: 2.502 MiB