Package: TabulaMurisData Version: 1.29.0 Command: /home/biocbuild/bbs-3.23-bioc/R/bin/R CMD INSTALL TabulaMurisData StartedAt: 2025-11-20 10:57:23 -0500 (Thu, 20 Nov 2025) EndedAt: 2025-11-20 10:57:36 -0500 (Thu, 20 Nov 2025) EllapsedTime: 12.9 seconds RetCode: 0 Status: OK