Package: TENxXeniumData Version: 1.7.0 Command: /home/biocbuild/bbs-3.23-bioc/R/bin/R CMD INSTALL TENxXeniumData StartedAt: 2025-11-18 11:03:06 -0500 (Tue, 18 Nov 2025) EndedAt: 2025-11-18 11:04:00 -0500 (Tue, 18 Nov 2025) EllapsedTime: 53.9 seconds RetCode: 0 Status: OK