Package: TENxXeniumData Version: 1.7.0 Command: /home/biocbuild/bbs-3.23-bioc/R/bin/R CMD check --install=check:TENxXeniumData.install-out.txt --library=/home/biocbuild/bbs-3.23-bioc/R/site-library --timings TENxXeniumData_1.7.0.tar.gz StartedAt: 2025-11-13 13:15:35 -0500 (Thu, 13 Nov 2025) EndedAt: 2025-11-13 13:23:09 -0500 (Thu, 13 Nov 2025) EllapsedTime: 454.7 seconds RetCode: 0 Status: OK CheckDir: TENxXeniumData.Rcheck Warnings: 0