Package: TENxVisiumData Version: 1.19.0 Command: /home/biocbuild/bbs-3.23-bioc/R/bin/R CMD INSTALL TENxVisiumData StartedAt: 2025-11-18 10:59:01 -0500 (Tue, 18 Nov 2025) EndedAt: 2025-11-18 10:59:31 -0500 (Tue, 18 Nov 2025) EllapsedTime: 29.8 seconds RetCode: 0 Status: OK