Package: TENxBUSData Version: 1.25.0 Command: /home/biocbuild/bbs-3.23-bioc/R/bin/R CMD build --keep-empty-dirs --no-resave-data TENxBUSData StartedAt: 2025-11-18 11:47:28 -0500 (Tue, 18 Nov 2025) EndedAt: 2025-11-18 11:47:56 -0500 (Tue, 18 Nov 2025) EllapsedTime: 28.3 seconds RetCode: 0 Status: OK PackageFile: TENxBUSData_1.25.0.tar.gz PackageFileSize: 221.3 KiB