Package: TCGAMethylation450k Version: 1.47.0 Command: /home/biocbuild/bbs-3.23-bioc/R/bin/R CMD build --keep-empty-dirs --no-resave-data TCGAMethylation450k StartedAt: 2025-11-18 11:47:08 -0500 (Tue, 18 Nov 2025) EndedAt: 2025-11-18 11:47:27 -0500 (Tue, 18 Nov 2025) EllapsedTime: 18.9 seconds RetCode: 0 Status: OK PackageFile: TCGAMethylation450k_1.47.0.tar.gz PackageFileSize: 81.02 MiB