Package: TBX20BamSubset Version: 1.47.0 Command: /home/biocbuild/bbs-3.23-bioc/R/bin/R CMD INSTALL TBX20BamSubset StartedAt: 2025-11-13 11:00:58 -0500 (Thu, 13 Nov 2025) EndedAt: 2025-11-13 11:01:09 -0500 (Thu, 13 Nov 2025) EllapsedTime: 10.3 seconds RetCode: 0 Status: OK